BEGIN:VCALENDAR
VERSION:2.0
PRODID:-//ChamberMaster//Event Calendar 2.0//EN
METHOD:PUBLISH
X-PUBLISHED-TTL:P3D
REFRESH-INTERVAL:P3D
CALSCALE:GREGORIAN
BEGIN:VEVENT
DTSTART:20090411T150000Z
DTEND:20090411T190000Z
X-MICROSOFT-CDO-ALLDAYEVENT:FALSE
SUMMARY:Pancake Breakfast & Easter Egg Hunt
DESCRIPTION:Pancake Breakfast & Easter Egg Hunt - Hosted by Independent Order of Odd Fellows Lodge #428 and Saratoga Chamber of Commerce. There will be a Silent Auction also. Over 25 auction items ranging from Crafts\, Hotel Lodging\, Portrait Setting and much more.The Auction will be held during the Breakfast and Egg Hunt.The Auction will close at 11:00am and the Winners will be notified.Proceeds will be donated to Charity. Featuring:2000 Easter Eggs to be foundLibrarian will be Story Book ReadingBalloon TwisterFace PaintingAND Photos with the Easter Bunny
X-ALT-DESC;FMTTYPE=text/html:<div>Pancake Breakfast &amp\; Easter Egg Hunt - Hosted by Independent Order of Odd Fellows Lodge #428 and Saratoga Chamber of Commerce.</div><div>&nbsp\;</div><div>There will be a Silent Auction also. Over 25 auction items ranging from Crafts\, Hotel Lodging\, Portrait Setting and much more.</div><div>The Auction will be held during the Breakfast and Egg Hunt.</div><div>The Auction will close at 11:00am and the Winners will be notified.</div><div>Proceeds will be donated to Charity.</div><div>&nbsp\;</div><div>Featuring:</div><div>2000 Easter Eggs to be found</div><div>Librarian will be Story Book Reading</div><div>Balloon Twister</div><div>Face Painting</div><div>AND Photos with the Easter Bunny</div>
LOCATION:Wildwood Park20764 4th StreetSaratoga\, CA
UID:e.517.173
SEQUENCE:3
DTSTAMP:20260424T210856Z
URL:https://members.saratogachamber.org/events/details/pancake-breakfast-easter-egg-hunt-04-11-2009-173
END:VEVENT

END:VCALENDAR
