BEGIN:VCALENDAR
VERSION:2.0
PRODID:-//ChamberMaster//Event Calendar 2.0//EN
METHOD:PUBLISH
X-PUBLISHED-TTL:P3D
REFRESH-INTERVAL:P3D
CALSCALE:GREGORIAN
BEGIN:VEVENT
DTSTART;VALUE=DATE:20110522
DTEND;VALUE=DATE:20110523
TRANSP:TRANSPARENT
X-MICROSOFT-CDO-ALLDAYEVENT:TRUE
SUMMARY:Old Fashioned Sunday Concert in the Park with Saratoga Community Band
DESCRIPTION:
X-ALT-DESC;FMTTYPE=text/html:
LOCATION:Wildwood Park 20764 Fourth Street in Saratoga
UID:e.517.358
SEQUENCE:3
DTSTAMP:20260423T131703Z
URL:https://members.saratogachamber.org/events/details/old-fashioned-sunday-concert-in-the-park-with-saratoga-community-band-05-22-2011-358
END:VEVENT

END:VCALENDAR
