BEGIN:VCALENDAR
VERSION:2.0
PRODID:-//ChamberMaster//Event Calendar 2.0//EN
METHOD:PUBLISH
X-PUBLISHED-TTL:P3D
REFRESH-INTERVAL:P3D
CALSCALE:GREGORIAN
BEGIN:VEVENT
DTSTART:20101014T003000Z
DTEND:20101014T020000Z
X-MICROSOFT-CDO-ALLDAYEVENT:FALSE
SUMMARY:October Mixer / Echo Shop - Oct. 13
DESCRIPTION:Monthly Mixer - Promote your Business or connect with Chamber Members and others. October is Kick-off for 50th year Anniversary activities
X-ALT-DESC;FMTTYPE=text/html:<div><div>Monthly Mixer - Promote your Business&nbsp\;or connect with Chamber Members and others.</div><div>&nbsp\;</div><div>October is Kick-off for 50th year Anniversary activities</div></div>
LOCATION:Echo Shop14477 Big Basin WaySaratoga\, CA
UID:e.517.268
SEQUENCE:3
DTSTAMP:20260423T204558Z
URL:https://members.saratogachamber.org/events/details/october-mixer-echo-shop-oct-13-10-13-2010-268
END:VEVENT

END:VCALENDAR
