BEGIN:VCALENDAR
VERSION:2.0
PRODID:-//ChamberMaster//Event Calendar 2.0//EN
METHOD:PUBLISH
X-PUBLISHED-TTL:P3D
REFRESH-INTERVAL:P3D
CALSCALE:GREGORIAN
BEGIN:VEVENT
DTSTART:20241017T000000Z
DTEND:20241017T020000Z
X-MICROSOFT-CDO-ALLDAYEVENT:FALSE
SUMMARY:October Business Networking Mixer - Brookside Club of Saratoga
DESCRIPTION:Join us for the October Business Networking Mixer hosted by Brookside Club of Saratoga.\n\nWhy You Should Attend:\n\nConnect with Like-Minded Businesses: This is your chance to network with professionals and expand your business connections.\n\nLight Bites & Refreshments: Enjoy delicious snacks and receive two tickets for wine or non-alcoholic beverages.\n\nBusiness Card Drawing: Drop your business card to win a delicious bottle of local wine!\n\n\nHighlights:\n\nFree Event: No cost to attend bring your business cards and a positive attitude!\n\nFun Atmosphere: Meet new people in a relaxed\, friendly environment.\n\nExpand Your Network: Grow your professional circle and discover potential business opportunities.
X-ALT-DESC;FMTTYPE=text/html:<p><span style="font-size:12px\;"><span style="color: rgb(62\, 68\, 84)\;"><strong><span id="docs-internal-guid-6f005005-7fff-f30f-c579-dde9417b3191"><span style="background-color: transparent\; font-variant-numeric: normal\; font-variant-east-asian: normal\; font-variant-alternates: normal\; font-variant-position: normal\; vertical-align: baseline\; white-space-collapse: preserve\;">Join us for the </span><span style="background-color: transparent\; font-variant-numeric: normal\; font-variant-east-asian: normal\; font-variant-alternates: normal\; font-variant-position: normal\; vertical-align: baseline\; white-space-collapse: preserve\;">October Business Networking Mixer</span><span style="background-color: transparent\; font-variant-numeric: normal\; font-variant-east-asian: normal\; font-variant-alternates: normal\; font-variant-position: normal\; vertical-align: baseline\; white-space-collapse: preserve\;"> hosted by Brookside Club of Saratoga.</span></span></strong></span></span></p>\n\n<p dir="ltr" style="line-height: 1.38\; margin-top: 12pt\; margin-bottom: 12pt\;"><span style="font-size:12px\;"><span style="color: rgb(62\, 68\, 84)\;"><span id="docs-internal-guid-e1588e71-7fff-0622-7b77-444dc006d816"><span style="background-color: transparent\; font-weight: 700\; font-variant-numeric: normal\; font-variant-east-asian: normal\; font-variant-alternates: normal\; font-variant-position: normal\; vertical-align: baseline\; white-space-collapse: preserve\;">Why You Should Attend:</span></span></span></span></p>\n\n<p dir="ltr" style="line-height: 1.38\; margin-top: 12pt\; margin-bottom: 12pt\;"><span style="font-size:12px\;"><span style="color: rgb(62\, 68\, 84)\;"><span id="docs-internal-guid-e1588e71-7fff-0622-7b77-444dc006d816"><span style="background-color: transparent\; font-weight: 700\; font-variant-numeric: normal\; font-variant-east-asian: normal\; font-variant-alternates: normal\; font-variant-position: normal\; vertical-align: baseline\; white-space-collapse: preserve\;">Connect with Like-Minded Businesses:</span><span style="font-family: Arial\, sans-serif\; background-color: transparent\; font-variant-numeric: normal\; font-variant-east-asian: normal\; font-variant-alternates: normal\; font-variant-position: normal\; vertical-align: baseline\; white-space-collapse: preserve\;"> This is your chance to network with professionals and expand your business connections.</span></span></span></span></p>\n\n<p dir="ltr" style="line-height: 1.38\; margin-top: 12pt\; margin-bottom: 12pt\;"><span style="font-size:12px\;"><span style="color: rgb(62\, 68\, 84)\;"><span id="docs-internal-guid-e1588e71-7fff-0622-7b77-444dc006d816"><span style="background-color: transparent\; font-weight: 700\; font-variant-numeric: normal\; font-variant-east-asian: normal\; font-variant-alternates: normal\; font-variant-position: normal\; vertical-align: baseline\; white-space-collapse: preserve\;">Light Bites &amp\; Refreshments:</span><span style="font-family: Arial\, sans-serif\; background-color: transparent\; font-variant-numeric: normal\; font-variant-east-asian: normal\; font-variant-alternates: normal\; font-variant-position: normal\; vertical-align: baseline\; white-space-collapse: preserve\;"> Enjoy delicious snacks and receive two tickets for wine or non-alcoholic beverages.</span></span></span></span></p>\n\n<p dir="ltr" style="line-height: 1.38\; margin-top: 12pt\; margin-bottom: 12pt\;"><span style="font-size:12px\;"><span style="color: rgb(62\, 68\, 84)\;"><span id="docs-internal-guid-e1588e71-7fff-0622-7b77-444dc006d816"><span style="background-color: transparent\; font-weight: 700\; font-variant-numeric: normal\; font-variant-east-asian: normal\; font-variant-alternates: normal\; font-variant-position: normal\; vertical-align: baseline\; white-space-collapse: preserve\;">Business Card Drawing:</span><span style="font-family: Arial\, sans-serif\; background-color: transparent\; font-variant-numeric: normal\; font-variant-east-asian: normal\; font-variant-alternates: normal\; font-variant-position: normal\; vertical-align: baseline\; white-space-collapse: preserve\;"> Drop your business card to win a delicious bottle of local wine!</span></span></span></span></p>\n\n<div>\n<p dir="ltr" style="line-height: 1.38\; margin-top: 12pt\; margin-bottom: 12pt\;"><span style="font-size:12px\;"><span style="color: rgb(62\, 68\, 84)\;"><span id="docs-internal-guid-8c465e71-7fff-78db-dac7-782b04e3f69f"><span style="background-color: transparent\; font-weight: 700\; font-variant-numeric: normal\; font-variant-east-asian: normal\; font-variant-alternates: normal\; font-variant-position: normal\; vertical-align: baseline\; white-space-collapse: preserve\;">Highlights:</span></span></span></span></p>\n\n<p dir="ltr" style="line-height: 1.38\; margin-top: 12pt\; margin-bottom: 12pt\;"><span style="font-size:12px\;"><span style="color: rgb(62\, 68\, 84)\;"><span id="docs-internal-guid-8c465e71-7fff-78db-dac7-782b04e3f69f"><span style="background-color: transparent\; font-weight: 700\; font-variant-numeric: normal\; font-variant-east-asian: normal\; font-variant-alternates: normal\; font-variant-position: normal\; vertical-align: baseline\; white-space-collapse: preserve\;">Free Event:</span><span style="font-family: Arial\, sans-serif\; background-color: transparent\; font-variant-numeric: normal\; font-variant-east-asian: normal\; font-variant-alternates: normal\; font-variant-position: normal\; vertical-align: baseline\; white-space-collapse: preserve\;"> No cost to attend&mdash\;bring your business cards and a positive attitude!</span></span></span></span></p>\n\n<p dir="ltr" style="line-height: 1.38\; margin-top: 12pt\; margin-bottom: 12pt\;"><span style="font-size:12px\;"><span style="color: rgb(62\, 68\, 84)\;"><span id="docs-internal-guid-8c465e71-7fff-78db-dac7-782b04e3f69f"><span style="background-color: transparent\; font-weight: 700\; font-variant-numeric: normal\; font-variant-east-asian: normal\; font-variant-alternates: normal\; font-variant-position: normal\; vertical-align: baseline\; white-space-collapse: preserve\;">Fun Atmosphere:</span><span style="font-family: Arial\, sans-serif\; background-color: transparent\; font-variant-numeric: normal\; font-variant-east-asian: normal\; font-variant-alternates: normal\; font-variant-position: normal\; vertical-align: baseline\; white-space-collapse: preserve\;"> Meet new people in a relaxed\, friendly environment.</span></span></span></span></p>\n\n<p dir="ltr" style="line-height: 1.38\; margin-top: 12pt\; margin-bottom: 12pt\;"><span style="font-size:12px\;"><span style="color: rgb(62\, 68\, 84)\;"><span id="docs-internal-guid-8c465e71-7fff-78db-dac7-782b04e3f69f"><span style="background-color: transparent\; font-weight: 700\; font-variant-numeric: normal\; font-variant-east-asian: normal\; font-variant-alternates: normal\; font-variant-position: normal\; vertical-align: baseline\; white-space-collapse: preserve\;">Expand Your Network:</span><span style="font-family: Arial\, sans-serif\; background-color: transparent\; font-variant-numeric: normal\; font-variant-east-asian: normal\; font-variant-alternates: normal\; font-variant-position: normal\; vertical-align: baseline\; white-space-collapse: preserve\;"> Grow your professional circle and discover potential business opportunities.</span></span></span></span></p>\n</div>\n
LOCATION:
UID:e.517.9039
SEQUENCE:3
DTSTAMP:20260420T195332Z
URL:https://members.saratogachamber.org/events/details/october-business-networking-mixer-brookside-club-of-saratoga-9039
END:VEVENT

END:VCALENDAR
