BEGIN:VCALENDAR
VERSION:2.0
PRODID:-//ChamberMaster//Event Calendar 2.0//EN
METHOD:PUBLISH
X-PUBLISHED-TTL:P3D
REFRESH-INTERVAL:P3D
CALSCALE:GREGORIAN
BEGIN:VEVENT
DTSTART:20110316T000000Z
DTEND:20110316T040000Z
X-MICROSOFT-CDO-ALLDAYEVENT:FALSE
SUMMARY:Nowruz Persian New Year
DESCRIPTION:Join us in Celebrating\n\n	Nowruz Persian New Year\n\n	Food\, dancing\, music & more!\n\n	Jumping over Fire
X-ALT-DESC;FMTTYPE=text/html:<p>\n	Join us in Celebrating<br />\n	Nowruz Persian New Year<br />\n	Food\, dancing\, music &amp\; more!<br />\n	Jumping over Fire</p>\n
LOCATION:Blaney Plaza\, Saratoga CA (Hwy 9 & Big Basin Way\, across from Starbucks)
UID:e.517.340
SEQUENCE:3
DTSTAMP:20260423T152339Z
URL:https://members.saratogachamber.org/events/details/nowruz-persian-new-year-03-15-2011-340
END:VEVENT

END:VCALENDAR
