BEGIN:VCALENDAR
VERSION:2.0
PRODID:-//ChamberMaster//Event Calendar 2.0//EN
METHOD:PUBLISH
X-PUBLISHED-TTL:P3D
REFRESH-INTERVAL:P3D
CALSCALE:GREGORIAN
BEGIN:VEVENT
DTSTART:20101119T013000Z
DTEND:20101119T030000Z
X-MICROSOFT-CDO-ALLDAYEVENT:FALSE
SUMMARY:November Mixer / Rose Market
DESCRIPTION:Rose International Market Mixer
X-ALT-DESC;FMTTYPE=text/html:Rose International Market&nbsp\;Mixer 
LOCATION:14445 Big Basin Way Saratoga\, CA
UID:e.517.311
SEQUENCE:3
DTSTAMP:20260423T204650Z
URL:https://members.saratogachamber.org/events/details/november-mixer-rose-market-11-18-2010-311
END:VEVENT

END:VCALENDAR
