BEGIN:VCALENDAR
VERSION:2.0
PRODID:-//ChamberMaster//Event Calendar 2.0//EN
METHOD:PUBLISH
X-PUBLISHED-TTL:P3D
REFRESH-INTERVAL:P3D
CALSCALE:GREGORIAN
BEGIN:VEVENT
DTSTART:20090804T150000Z
DTEND:20090804T160000Z
X-MICROSOFT-CDO-ALLDAYEVENT:FALSE
SUMMARY:New Member Breakfast
DESCRIPTION:To Welcome all of the Saratoga Chamber New Members.
X-ALT-DESC;FMTTYPE=text/html:<div>To Welcome all of the Saratoga Chamber New Members.</div>
LOCATION:Big Word Cafe12241-A Saratoga-Sunnyvale Rd.Saratoga\, CA
UID:e.517.194
SEQUENCE:3
DTSTAMP:20260424T155548Z
URL:https://members.saratogachamber.org/events/details/new-member-breakfast-08-04-2009-194
END:VEVENT

END:VCALENDAR
