BEGIN:VCALENDAR
VERSION:2.0
PRODID:-//ChamberMaster//Event Calendar 2.0//EN
METHOD:PUBLISH
X-PUBLISHED-TTL:P3D
REFRESH-INTERVAL:P3D
CALSCALE:GREGORIAN
BEGIN:VEVENT
DTSTART:20110723T163000Z
DTEND:20110723T190000Z
X-MICROSOFT-CDO-ALLDAYEVENT:FALSE
SUMMARY:New Construction vs. Remodeling Workshop
DESCRIPTION:One question we're asked frequently is "should I remodel my home or just tear it down and build a new one?"  While there has never been one right answer to this question\, with the dramatic changes occurring recently in the real estate market\, it's getting even harder to answer.  This workshop addressed key factors that help determine which route to take including "what you have" (location\, site condition and limitations\, foundation and framing\, drainage and plumbing\, electrical and HVAC considerations\,) and "what you need or want" (planning or zoning issues\, one or two stories\, additional area required and more.) Find out more about which direction is right for your home and your needs by attending this informative workshop.  \n\n	July 23\, 2011 9:30am   12:00pm\n\n	Light breakfast & Registration at 9:15am\n\n	Register online at http://www.harrell-remodeling.com or call us at 650-230-2900\n\n	Harrell Remodeling Design Center\n\n	1954 Old Middlefield Way\n\n	Mountain View\, CA 94043
X-ALT-DESC;FMTTYPE=text/html:<p class="MsoNormal" style="margin: 0in 0in 10pt">\n	<font color="#000000"><font size="3"><font face="Calibri">One question we&rsquo\;re asked frequently is &ldquo\;should I remodel my home or just tear it down and build a new one?&rdquo\;<span style="mso-spacerun: yes">&nbsp\; </span>While there has never been one right answer to this question\, with the dramatic changes occurring recently in the real estate market\, it&rsquo\;s getting even harder to answer.<span style="mso-spacerun: yes">&nbsp\; </span>This workshop addressed key factors that help determine which route to take including &ldquo\;what you have&rdquo\; (location\, site condition and limitations\, foundation and framing\, drainage and plumbing\, electrical and HVAC considerations\,) and &ldquo\;what you need or want&rdquo\; (planning or zoning issues\, one or two stories\, additional area required and more.) Find out more about which direction is right for your home and your needs by attending this informative workshop.<span style="mso-spacerun: yes">&nbsp\; </span></font></font></font></p>\n<p class="MsoNormal" style="margin: 0in 0in 10pt">\n	<font color="#000000" face="Calibri" size="3">July 23\, 2011 9:30am &ndash\; 12:00pm</font></p>\n<p class="MsoNormal" style="margin: 0in 0in 10pt">\n	<font color="#000000" face="Calibri" size="3">Light breakfast &amp\; Registration at 9:15am</font></p>\n<p class="MsoNormal" style="margin: 0in 0in 10pt">\n	<font color="#000000" face="Calibri" size="3">Register online at </font><a href="http://www.harrell-remodeling.com/"><font color="#800080" face="Calibri" size="3">http://www.harrell-remodeling.com</font></a><font color="#000000" face="Calibri" size="3"> or call us at 650-230-2900</font></p>\n<p class="MsoNormal" style="margin: 0in 0in 10pt">\n	<font size="3"><font color="#000000"><font face="Calibri">Harrell Remodeling <st1:place w:st="on"><st1:placename w:st="on">Design</st1:placename> <st1:postalcode w:st="on">Center</st1:postalcode></st1:place></font></font></font></p>\n<p class="MsoNormal" style="margin: 0in 0in 10pt">\n	<st1:postalcode w:st="on"><font color="#000000" face="Calibri" size="3">1954 Old Middlefield Way</font></st1:postalcode></p>\n<p class="MsoNormal" style="margin: 0in 0in 10pt">\n	<st1:postalcode w:st="on"><font size="3"><font color="#000000"><font face="Calibri"><st1:postalcode w:st="on">Mountain View</st1:postalcode>\, <st1:postalcode w:st="on">CA</st1:postalcode> <st1:postalcode w:st="on">94043</st1:postalcode></font></font></font></st1:postalcode></p>\n
LOCATION:Harrell Remodeling Design Center 1954 Old Middlefield Way Mountain View\, CA 94043
UID:e.517.1110
SEQUENCE:3
DTSTAMP:20260423T092904Z
URL:https://members.saratogachamber.org/events/details/new-construction-vs-remodeling-workshop-07-23-2011-1110
END:VEVENT

END:VCALENDAR
