BEGIN:VCALENDAR
VERSION:2.0
PRODID:-//ChamberMaster//Event Calendar 2.0//EN
METHOD:PUBLISH
X-PUBLISHED-TTL:P3D
REFRESH-INTERVAL:P3D
CALSCALE:GREGORIAN
BEGIN:VEVENT
DTSTART:20100421T010000Z
DTEND:20100421T030000Z
X-MICROSOFT-CDO-ALLDAYEVENT:FALSE
SUMMARY:Net Marketing Seminar
DESCRIPTION:Net Marketing Seminar We will be going over:Taking Your Business OnlineWebsites\, Marketing Websites\, Brand Awareness\,Tech Media MaketingInternet Marketing and Social Networking-Facebook\, Twitter and more.Which works best for you? Speaker will be Indu Jayakumar of LocalBizNetwork. Do you have an Internet based business?Or a website which you use for your business?Just having a website does not guarantee traffic.So how do you drive customers to your website?
X-ALT-DESC;FMTTYPE=text/html:<div><div style="text-align: left\; margin: 0in 0in 0pt"><span style="font-size: small"><strong>Net Marketing Seminar</strong></span><div style="text-align: left\; margin: 0in 0in 0pt">&nbsp\;</div><div style="text-align: left\; margin: 0in 0in 0pt">We will be going over:</div><div style="text-align: left\; margin: 0in 0in 0pt"><strong>Taking Your Business Online</strong></div><div style="text-align: left\; margin: 0in 0in 0pt">Websites\, Marketing Websites\, Brand&nbsp\;Awareness\,</div><div style="text-align: left\; margin: 0in 0in 0pt"><strong>Tech Media Maketing</strong></div><div style="text-align: left\; margin: 0in 0in 0pt">Internet Marketing and Social Networking-Facebook\, Twitter and more.</div><div style="text-align: left\; margin: 0in 0in 0pt">Which works best for you?</div><div style="text-align: left\; margin: 0in 0in 0pt">&nbsp\;</div><div style="text-align: left\; margin: 0in 0in 0pt">Speaker&nbsp\;will be&nbsp\;<strong>Indu Jayakumar of LocalBizNetwork</strong>.</div><div style="text-align: left\; margin: 0in 0in 0pt">&nbsp\;</div><div style="text-align: left\; margin: 0in 0in 0pt">Do you have an Internet based&nbsp\;business?</div><div style="text-align: left\; margin: 0in 0in 0pt">Or a website which you use for your business?</div><div style="text-align: left\; margin: 0in 0in 0pt">Just having a website does not guarantee traffic.</div><div style="text-align: left\; margin: 0in 0in 0pt">So how do you drive customers to your website?&nbsp\;<br />&nbsp\;</div></div><div style="text-align: left\; margin: 0in 0in 0pt">&nbsp\;</div><div style="text-align: left\; margin: 0in 0in 0pt">&nbsp\;</div></div>
LOCATION:Patio Room at SaratogaCommunity Center19655 Allendale Ave. Saratoga\, California95070
UID:e.517.230
SEQUENCE:3
DTSTAMP:20260424T043227Z
URL:https://members.saratogachamber.org/events/details/net-marketing-seminar-04-20-2010-230
END:VEVENT

END:VCALENDAR
