BEGIN:VCALENDAR
VERSION:2.0
PRODID:-//ChamberMaster//Event Calendar 2.0//EN
METHOD:PUBLISH
X-PUBLISHED-TTL:P3D
REFRESH-INTERVAL:P3D
CALSCALE:GREGORIAN
BEGIN:VEVENT
DTSTART:20091016T003000Z
DTEND:20091016T020000Z
X-MICROSOFT-CDO-ALLDAYEVENT:FALSE
SUMMARY:Monthly Mixer - Souriana's Beauty Salon
DESCRIPTION:Monthly Mixer for the Saratoga Chamber of Commerce
X-ALT-DESC;FMTTYPE=text/html:<div><div>Monthly Mixer for the Saratoga Chamber of Commerce</div></div>
LOCATION:Souriana's Beauty Salon 20341 Blauer Dr.Saratoga\, CAIn the Argonaut Shopping Center - Around the corner from Starbucks.
UID:e.517.193
SEQUENCE:3
DTSTAMP:20260424T131743Z
URL:https://members.saratogachamber.org/events/details/monthly-mixer-souriana-s-beauty-salon-10-15-2009-193
END:VEVENT

END:VCALENDAR
