BEGIN:VCALENDAR
VERSION:2.0
PRODID:-//ChamberMaster//Event Calendar 2.0//EN
METHOD:PUBLISH
X-PUBLISHED-TTL:P3D
REFRESH-INTERVAL:P3D
CALSCALE:GREGORIAN
BEGIN:VEVENT
DTSTART:20090925T003000Z
DTEND:20090925T020000Z
X-MICROSOFT-CDO-ALLDAYEVENT:FALSE
SUMMARY:Monthly Mixer - Saratoga Springs
DESCRIPTION:Monthly Mixer for the Saratoga Chamber of Commerce
X-ALT-DESC;FMTTYPE=text/html:<div><div>Monthly Mixer for the Saratoga Chamber of Commerce</div></div>
LOCATION:Saratoga Spring22801 Big Basin WaySaratoga\, CA
UID:e.517.197
SEQUENCE:3
DTSTAMP:20260424T142236Z
URL:https://members.saratogachamber.org/events/details/monthly-mixer-saratoga-springs-09-24-2009-197
END:VEVENT

END:VCALENDAR
