BEGIN:VCALENDAR
VERSION:2.0
PRODID:-//ChamberMaster//Event Calendar 2.0//EN
METHOD:PUBLISH
X-PUBLISHED-TTL:P3D
REFRESH-INTERVAL:P3D
CALSCALE:GREGORIAN
BEGIN:VEVENT
DTSTART:20100317T003000Z
DTEND:20100317T030000Z
X-MICROSOFT-CDO-ALLDAYEVENT:FALSE
SUMMARY:Monthly Mixer - Persian New Year Celebration
DESCRIPTION:Mixer & Persian New Year Celebration Mixer starting at 5:30pm will be held at:Corinthian Center20500 Saratoga-Los Gatos Rd. Suite ESaratoga\, CA(across from Blaney Plaza) Celebrations for Persian New Year (around the Village) that night:Blaney PlazaTraditional Persian Dance & MusicPersian food & pastriesNewsha Dance Academy dancers will do the Fire DanceBoy Scouts will make us popcorn & do face paintingChildren singing songs The Rose Markethosting a dance stage of all kinds of Internantional Belly Dancing Vienna Woods Cafehosting traditional Persian food - Kabbob Classic Persian music
X-ALT-DESC;FMTTYPE=text/html:<div><div><span style="font-size: x-small"><span style="font-family: Verdana\; color: black">Mixer &amp\; Persian New Year Celebration</span></span></div><div><span style="font-size: x-small">&nbsp\;</span></div><div><span style="font-size: x-small">Mixer starting at 5:30pm will be held at:</span></div><div><span style="font-size: x-small">Corinthian Center</span></div><div><span style="font-size: x-small">20500 Saratoga-Los Gatos Rd. Suite E</span></div><div><span style="font-size: x-small">Saratoga\, CA</span></div><div><span style="font-size: x-small">(across from Blaney Plaza)</span></div><div>&nbsp\;</div><div><span style="font-size: x-small">Celebrations for Persian New Year (around the Village) that night:</span></div><div><u><span style="font-size: x-small">Blaney Plaza</span></u></div><div><span style="font-size: x-small">Traditional Persian Dance &amp\; Music</span></div><div><span style="font-size: x-small">Persian food &amp\; pastries</span></div><div><span style="font-size: x-small">Newsha Dance Academy dancers will do the Fire Dance</span></div><div><span style="font-size: x-small">Boy Scouts will make us popcorn &amp\; do face painting</span></div><div><span style="font-size: x-small">Children singing songs</span></div><div>&nbsp\;</div><div><span style="font-size: x-small"><u>The Rose Market</u></span></div><div><span style="font-size: x-small">hosting a dance stage of all kinds of Internantional Belly Dancing</span></div><div>&nbsp\;</div><div><span style="font-size: x-small"><u>Vienna Woods Cafe</u></span></div><div><span style="font-size: x-small">hosting traditional Persian food - Kabbob </span></div><div><span style="font-size: x-small">Classic Persian music</span></div><div>&nbsp\;</div><div><span style="font-size: smaller"><span style="font-size: xx-small"><span style="font-size: small">&nbsp\;</span></span></span></div></div>
LOCATION:Corintian Center20500 Saratoga-Los Gatos Rd. Suite ESaratoga\, CA (Across from Blaney Plaza)
UID:e.517.218
SEQUENCE:3
DTSTAMP:20260424T055537Z
URL:https://members.saratogachamber.org/events/details/monthly-mixer-persian-new-year-celebration-03-16-2010-218
END:VEVENT

END:VCALENDAR
