BEGIN:VCALENDAR
VERSION:2.0
PRODID:-//ChamberMaster//Event Calendar 2.0//EN
METHOD:PUBLISH
X-PUBLISHED-TTL:P3D
REFRESH-INTERVAL:P3D
CALSCALE:GREGORIAN
BEGIN:VEVENT
DTSTART:20100513T003000Z
DTEND:20100513T020000Z
X-MICROSOFT-CDO-ALLDAYEVENT:FALSE
SUMMARY:Monthly Mixer - Odd Fellows & Grand Opening to ''Stairway to History''
DESCRIPTION:Monthly Mixer for the Saratoga Chamber of Commerce and Grand Opening for Odd Fellows Lodge "Stairway to History". Grand Opening: Saratoga Odd Fellows Lodge's new local history exhibition titled "Stairway to History".  The event will be hosted by Annette Stransky\, Vice President of the Saratoga Museum\, who will educate each picture as we ascend.  For more info on the Progam email saratoga428@att.new or call 408-256-7943.
X-ALT-DESC;FMTTYPE=text/html:<div>Monthly Mixer for the Saratoga Chamber of Commerce and Grand Opening for Odd Fellows Lodge &quot\;Stairway to History&quot\;.</div><div>&nbsp\;</div><div>Grand Opening: Saratoga Odd Fellows Lodge&rsquo\;s new local history exhibition titled &quot\;Stairway to History&quot\;.&nbsp\; The event will be hosted by Annette Stransky\, Vice President of the Saratoga Museum\, who will educate each picture as we ascend.&nbsp\; For more info on the Progam email <a href="mailto:saratoga428@att.new">saratoga428@att.new</a> or call 408-256-7943.</div>
LOCATION:Odd Fellows Lodge14414 Oak Street\, Suit ASaratoga\, CA
UID:e.517.231
SEQUENCE:3
DTSTAMP:20260424T031841Z
URL:https://members.saratogachamber.org/events/details/monthly-mixer-odd-fellows-grand-opening-to-stairway-to-history-05-12-2010-231
END:VEVENT

END:VCALENDAR
