BEGIN:VCALENDAR
VERSION:2.0
PRODID:-//ChamberMaster//Event Calendar 2.0//EN
METHOD:PUBLISH
X-PUBLISHED-TTL:P3D
REFRESH-INTERVAL:P3D
CALSCALE:GREGORIAN
BEGIN:VEVENT
DTSTART:20091119T013000Z
DTEND:20091119T030000Z
X-MICROSOFT-CDO-ALLDAYEVENT:FALSE
SUMMARY:Monthly Mixer - LMGW Certified Public Accountants
DESCRIPTION:Monthly Mixer for the Saratoga Chamber of Commerce
X-ALT-DESC;FMTTYPE=text/html:<div><div>Monthly Mixer for the Saratoga Chamber of Commerce</div></div>
LOCATION:LMGW Certified Public Accountants20520 Prospect Rd. #200Saratoga\, CA
UID:e.517.198
SEQUENCE:3
DTSTAMP:20260424T114442Z
URL:https://members.saratogachamber.org/events/details/monthly-mixer-lmgw-certified-public-accountants-11-18-2009-198
END:VEVENT

END:VCALENDAR
