BEGIN:VCALENDAR
VERSION:2.0
PRODID:-//ChamberMaster//Event Calendar 2.0//EN
METHOD:PUBLISH
X-PUBLISHED-TTL:P3D
REFRESH-INTERVAL:P3D
CALSCALE:GREGORIAN
BEGIN:VEVENT
DTSTART:20090820T003000Z
DTEND:20090820T020000Z
X-MICROSOFT-CDO-ALLDAYEVENT:FALSE
SUMMARY:Monthly Mixer - Big Word Cafe
DESCRIPTION:Monthly Mixer for the Saratoga Chamber of Commerce
X-ALT-DESC;FMTTYPE=text/html:<div>Monthly Mixer for the Saratoga Chamber of Commerce</div>
LOCATION:Big Word Cafe12241-A Saratoga-Sunnyvale Rd.Saratoga\, CA
UID:e.517.195
SEQUENCE:3
DTSTAMP:20260424T155907Z
URL:https://members.saratogachamber.org/events/details/monthly-mixer-big-word-cafe-08-19-2009-195
END:VEVENT

END:VCALENDAR
