BEGIN:VCALENDAR
VERSION:2.0
PRODID:-//ChamberMaster//Event Calendar 2.0//EN
METHOD:PUBLISH
X-PUBLISHED-TTL:P3D
REFRESH-INTERVAL:P3D
CALSCALE:GREGORIAN
BEGIN:VEVENT
DTSTART:20090522T003000Z
DTEND:20090522T020000Z
X-MICROSOFT-CDO-ALLDAYEVENT:FALSE
SUMMARY:Monthly Mixer
DESCRIPTION:
X-ALT-DESC;FMTTYPE=text/html:
LOCATION:
UID:e.517.6
SEQUENCE:3
DTSTAMP:20260424T195021Z
URL:https://members.saratogachamber.org/events/details/monthly-mixer-05-21-2009-6
END:VEVENT

END:VCALENDAR
