BEGIN:VCALENDAR
VERSION:2.0
PRODID:-//ChamberMaster//Event Calendar 2.0//EN
METHOD:PUBLISH
X-PUBLISHED-TTL:P3D
REFRESH-INTERVAL:P3D
CALSCALE:GREGORIAN
BEGIN:VEVENT
DTSTART:20230921T000000Z
DTEND:20230921T020000Z
X-MICROSOFT-CDO-ALLDAYEVENT:FALSE
SUMMARY:Monthly Business Social - The Micropigment Studio Ribbon Cutting & Business Social
DESCRIPTION:Mix and mingle\, diversify your business network\, and create new connections with like-minded business professionals representing various companies in and around Saratoga. Light bites will be provided\, and a drink ticket for wine or non-alcoholic beverages will be provided.\n\n \n\nRemember to bring your business cards for our speed networking session and to participate in our business card drawing.
X-ALT-DESC;FMTTYPE=text/html:<p background-color:="" font-size:="" margin:="" open="" padding:="" style="color: rgb(51\, 51\, 51)\; font-family: sans-serif\, Arial\, Verdana\, " trebuchet=""><span style="font-size:14px\;"><span color:="" lucida="" margin:="" padding:="" segoe="" style="border: 0px\; font-style: inherit\; font-variant: inherit\; font-weight: inherit\; font-stretch: inherit\; line-height: inherit\;" vertical-align:="">Mix and mingle\, diversify your business network\, and create new connections&nbsp\;with like-minded business professionals representing&nbsp\;various companies in and around Saratoga. Light bites will be provided\, and a drink ticket for wine or non-alcoholic beverages will be provided.</span></span><br />\n&nbsp\;</p>\n\n<p font-size:="" style="color: rgb(51\, 51\, 51)\; font-family: sans-serif\, Arial\, Verdana\, " trebuchet=""><span style="font-size:14px\;"><span color:="" lucida="" margin:="" padding:="" segoe="" style="border: 0px\; font-style: inherit\; font-variant: inherit\; font-weight: inherit\; font-stretch: inherit\; line-height: inherit\;" vertical-align:="">Remember to bring your business cards for our speed networking session and to participate in our business card drawing.</span></span></p>\n
LOCATION:Located in the Drywalk Salon 422 N Santa Cruz Ave\, Los Gatos\, CA 95030
UID:e.517.9021
SEQUENCE:3
DTSTAMP:20260423T120417Z
URL:https://members.saratogachamber.org/events/details/monthly-business-social-the-micropigment-studio-ribbon-cutting-business-social-9021
END:VEVENT

END:VCALENDAR
