BEGIN:VCALENDAR
VERSION:2.0
PRODID:-//ChamberMaster//Event Calendar 2.0//EN
METHOD:PUBLISH
X-PUBLISHED-TTL:P3D
REFRESH-INTERVAL:P3D
CALSCALE:GREGORIAN
BEGIN:VEVENT
DTSTART:20271118T010000Z
DTEND:20271118T030000Z
X-MICROSOFT-CDO-ALLDAYEVENT:FALSE
SUMMARY:Business Networking Mixer
DESCRIPTION:
X-ALT-DESC;FMTTYPE=text/html:
LOCATION:TBA
UID:e.517.9076
SEQUENCE:3
DTSTAMP:20260422T192150Z
URL:https://members.saratogachamber.org/events/details/monthly-business-social-11-17-2027-9076
END:VEVENT

END:VCALENDAR
