BEGIN:VCALENDAR
VERSION:2.0
PRODID:-//ChamberMaster//Event Calendar 2.0//EN
METHOD:PUBLISH
X-PUBLISHED-TTL:P3D
REFRESH-INTERVAL:P3D
CALSCALE:GREGORIAN
BEGIN:VEVENT
DTSTART:20280316T000000Z
DTEND:20280316T020000Z
X-MICROSOFT-CDO-ALLDAYEVENT:FALSE
SUMMARY:Business Networking Mixer
DESCRIPTION:
X-ALT-DESC;FMTTYPE=text/html:
LOCATION:TBA
UID:e.517.9080
SEQUENCE:3
DTSTAMP:20260423T000016Z
URL:https://members.saratogachamber.org/events/details/monthly-business-social-03-15-2028-9080
END:VEVENT

END:VCALENDAR
