BEGIN:VCALENDAR
VERSION:2.0
PRODID:-//ChamberMaster//Event Calendar 2.0//EN
METHOD:PUBLISH
X-PUBLISHED-TTL:P3D
REFRESH-INTERVAL:P3D
CALSCALE:GREGORIAN
BEGIN:VEVENT
DTSTART:20090320T003000Z
DTEND:20090320T023000Z
X-MICROSOFT-CDO-ALLDAYEVENT:FALSE
SUMMARY:Mixer - Net Max Realty
DESCRIPTION:Saratoga Chamber Mixer
X-ALT-DESC;FMTTYPE=text/html:<div>Saratoga Chamber Mixer</div>
LOCATION:Net Max Realty14425 Big Basin Way\, Suite 1Saratoga\, CA
UID:e.517.171
SEQUENCE:3
DTSTAMP:20260424T221259Z
URL:https://members.saratogachamber.org/events/details/mixer-net-max-realty-03-19-2009-171
END:VEVENT

END:VCALENDAR
