BEGIN:VCALENDAR
VERSION:2.0
PRODID:-//ChamberMaster//Event Calendar 2.0//EN
METHOD:PUBLISH
X-PUBLISHED-TTL:P3D
REFRESH-INTERVAL:P3D
CALSCALE:GREGORIAN
BEGIN:VEVENT
DTSTART:20110506T003000Z
DTEND:20110506T020000Z
X-MICROSOFT-CDO-ALLDAYEVENT:FALSE
SUMMARY:MAY MIXER / Saratoga Historical Museum
DESCRIPTION:May Mixer\n\nNetworking & Raffle
X-ALT-DESC;FMTTYPE=text/html:May Mixer<br />\nNetworking &amp\; Raffle
LOCATION:Saratoga Historical Museum - 20450 Saratoga-Los Gatos Rd.\, Saratoga\, CA
UID:e.517.350
SEQUENCE:3
DTSTAMP:20260423T115942Z
URL:https://members.saratogachamber.org/events/details/may-mixer-saratoga-historical-museum-05-05-2011-350
END:VEVENT

END:VCALENDAR
