BEGIN:VCALENDAR
VERSION:2.0
PRODID:-//ChamberMaster//Event Calendar 2.0//EN
METHOD:PUBLISH
X-PUBLISHED-TTL:P3D
REFRESH-INTERVAL:P3D
CALSCALE:GREGORIAN
BEGIN:VEVENT
DTSTART:20110318T003000Z
DTEND:20110318T020000Z
X-MICROSOFT-CDO-ALLDAYEVENT:FALSE
SUMMARY:March Mixer / Montalvo Arts Center
DESCRIPTION:Montalvo Arts Center Mixer\n\nWine tasting by Big Basin Vineyards & Guglielmo Winery\n\nPiano played by Tom Collins\n\nRaffle
X-ALT-DESC;FMTTYPE=text/html:Montalvo Arts Center Mixer<br />\nWine tasting by Big Basin Vineyards &amp\; Guglielmo Winery<br />\nPiano played by Tom Collins<br />\nRaffle<br />\n
LOCATION:15400 Montalvo Road Saratoga\, CA
UID:e.517.313
SEQUENCE:3
DTSTAMP:20260423T152426Z
URL:https://members.saratogachamber.org/events/details/march-mixer-montalvo-arts-center-03-17-2011-313
END:VEVENT

END:VCALENDAR
