BEGIN:VCALENDAR
VERSION:2.0
PRODID:-//ChamberMaster//Event Calendar 2.0//EN
METHOD:PUBLISH
X-PUBLISHED-TTL:P3D
REFRESH-INTERVAL:P3D
CALSCALE:GREGORIAN
BEGIN:VEVENT
DTSTART:20240316T180000Z
DTEND:20240316T184500Z
X-MICROSOFT-CDO-ALLDAYEVENT:FALSE
SUMMARY:Mangia Mornings - Ribbon Cutting & Grand Opening
DESCRIPTION:Join us and celebrate the beginning of a new chapter for Nick Miller\, Owner of Mangia Mornings!\n\n\n\nWe are thrilled to announce the grand opening of Mangia Mornings\, an exciting addition\n\nto our local culinary landscape.\n\nYour presence at this event would mean a great deal to the SCoC and Mangia Mornings as Nick\n\nembarks on this exciting journey. Together\, let us celebrate the spirit of entrepreneurship and community.
X-ALT-DESC;FMTTYPE=text/html:<span style="font-family:arial\;"><span style="font-size:14px\;"><span font-size:="" new="" style="color: rgb(13\, 13\, 13)\; font-family: " times="" white-space-collapse:="">Join us and celebrate the beginning of a new chapter for Nick Miller\, Owner of Mangia Mornings!</span><br />\n<br />\n<span style="color: rgb(13\, 13\, 13)\; white-space-collapse: preserve\;">We are thrilled to announce the grand opening of Mangia Mornings\, an exciting addition<br />\nto our local culinary landscape.<br />\nYour presence at this event would mean a great deal to the SCoC and Mangia Mornings as Nick<br />\nembarks on this exciting journey. Together\, let us celebrate the spirit of entrepreneurship and community.</span></span></span><br />\n<br />\n&nbsp\;
LOCATION:Mangia Mornings 14554 Big Basin Way\, Saratoga\, CA 95070
UID:e.517.9597
SEQUENCE:3
DTSTAMP:20260421T045559Z
URL:https://members.saratogachamber.org/events/details/mangia-mornings-ribbon-cutting-grand-opening-9597
END:VEVENT

END:VCALENDAR
