BEGIN:VCALENDAR
VERSION:2.0
PRODID:-//ChamberMaster//Event Calendar 2.0//EN
METHOD:PUBLISH
X-PUBLISHED-TTL:P3D
REFRESH-INTERVAL:P3D
CALSCALE:GREGORIAN
BEGIN:VEVENT
DTSTART:20100410T150000Z
DTEND:20100411T030000Z
X-MICROSOFT-CDO-ALLDAYEVENT:FALSE
SUMMARY:Mammo Marathon
DESCRIPTION:To celebrate the opening of our new Digital Mammography Unit and to promote women's health\, El Camino Hospital Los Gatos and the Women's Hospital are offering mammograms at no charge. The free screening is for women 40 and above that have not yet had their first mammogram or are uninsured or underserved. Registration is required. Please call 800-216-5556 to register. \n\n\n\nFor more information on the Mammo Marathon please visit our Web site.
X-ALT-DESC;FMTTYPE=text/html:To celebrate the opening of our new Digital Mammography Unit and to promote women's health\, El Camino Hospital Los Gatos and the Women's Hospital are offering mammograms at no charge. The free screening is for women 40 and above that have not yet had their first mammogram or are uninsured or underserved. Registration is required. Please call 800-216-5556 to register. \n<br>\n<br>For more information on the Mammo Marathon please visit our Web site.\n<br>
LOCATION:El Camino Hospital Los Gatos\, Outpatient Mammography 555 Knoweles Ave.\, Suite 100\, Los Gatos\, CA
UID:e.517.227
SEQUENCE:3
DTSTAMP:20260424T043122Z
URL:https://members.saratogachamber.org/events/details/mammo-marathon-04-10-2010-227
END:VEVENT

END:VCALENDAR
