BEGIN:VCALENDAR
VERSION:2.0
PRODID:-//ChamberMaster//Event Calendar 2.0//EN
METHOD:PUBLISH
X-PUBLISHED-TTL:P3D
REFRESH-INTERVAL:P3D
CALSCALE:GREGORIAN
BEGIN:VEVENT
DTSTART:20111027T193000Z
DTEND:20111027T203000Z
X-MICROSOFT-CDO-ALLDAYEVENT:FALSE
SUMMARY:Lunch N Learn: The Latest Advances in Breast Surgery and Reconstruction
DESCRIPTION:Come learn about the latest procedures and advancements in breast surgery and breast reconstruction surgery.\n\n\n\nDr. Jacob will share information about new techniques and help dispel some of the myths associated with breast surgery.\n\n\n\nThe Lunch N Learn series is open to everyone and will include a 45-minute presentation and 15 minutes of Q&A. Please bring a lunch   drinks and a small healthy snack will be provided! No registration required.
X-ALT-DESC;FMTTYPE=text/html:Come learn about the latest procedures and advancements in breast surgery and breast reconstruction surgery.<br />\n<br />\nDr. Jacob will share information about new techniques and help dispel some of the myths associated with breast surgery.<br />\n<br />\nThe Lunch N Learn series is open to everyone and will include a 45-minute presentation and 15 minutes of Q&amp\;A. Please bring a lunch &ndash\; drinks and a small healthy snack will be provided! No registration required.<br />\n
LOCATION:El Camino Hospital\, Los Gatos\, Conference Rooms
UID:e.517.1277
SEQUENCE:3
DTSTAMP:20260421T080855Z
URL:https://members.saratogachamber.org/events/details/lunch-n-learn-the-latest-advances-in-breast-surgery-and-reconstruction-10-27-2011-1277
END:VEVENT

END:VCALENDAR
