BEGIN:VCALENDAR
VERSION:2.0
PRODID:-//ChamberMaster//Event Calendar 2.0//EN
METHOD:PUBLISH
X-PUBLISHED-TTL:P3D
REFRESH-INTERVAL:P3D
CALSCALE:GREGORIAN
BEGIN:VEVENT
DTSTART:20091003T230000Z
DTEND:20091004T010000Z
X-MICROSOFT-CDO-ALLDAYEVENT:FALSE
SUMMARY:Lantern Walk
DESCRIPTION:Lantern Walk\, Sat.\, Oct. 3\, 4-6pm\, in Saratoga VillageThis highly successful 'one-of-its-kind' activity combines the Chinese Moon Festival celebration and a quasi 'trick or treat'.  Attendance last year was close to 1000. Moon cake tasting\, lanterns and goody bags will be available at the check-in area at BlaneyPlaza.  Kids and their families will stroll along Big Basin Way with lanterns in their hands and visit the participating stores. Merchants will indicate their participation by hanging a big red lantern outside their stores\, and they are expected to pass out treats (which can be non-edible items\, e.g. coupons). To attract foot traffic\, Chinese music\, dance performances\, and arts and craft demonstrations will be held at different spots along Big Basin Way.   Instead of having 'student ambassadors' showing the way as in years past\, visitors may take their own route and visit the stores at their own pace. They may enter a raffle draw after visiting a required number of stores at different locations. To enable the necessary planning\, merchants/organizations interested in participating or who have questions should contact Emily Lo at emilylo@mplususa.com or 868.9982 no later than September 22. Merchants can reuse previous lanterns\, or they can purchase a new one for $20 (while supply lasts).
X-ALT-DESC;FMTTYPE=text/html:<div><div align="center"><span style="font-size: x-small"><u>Lantern Walk\, Sat.\, Oct. 3\, 4-6pm\, in Saratoga Village</u></span></div><div><span style="font-size: x-small">This highly successful &lsquo\;one-of-its-kind&rsquo\; activity combines the Chinese Moon Festival celebration and a quasi &lsquo\;trick or treat&rsquo\;. &nbsp\;Attendance last year was close to 1000.</span></div><div><span style="font-size: x-small">&nbsp\;</span></div><div><span style="font-size: x-small">Moon cake tasting\, lanterns and goody bags will be available at the check-in area at BlaneyPlaza.&nbsp\; Kids and their families will stroll along Big Basin Way with lanterns in their hands and visit the participating stores. Merchants will indicate their participation by hanging a big red lantern outside their stores\, and they are expected to pass out treats (which can be non-edible items\, e.g. coupons).</span></div><div><span style="font-size: x-small">&nbsp\;</span></div><div><span style="font-size: x-small">To attract foot traffic\, Chinese music\, dance performances\, and arts and craft demonstrations will be held at different spots along Big Basin Way. &nbsp\; Instead of having &lsquo\;student ambassadors&rsquo\; showing the way as in years past\, visitors may take their own route and visit the stores at their own pace. They may enter a raffle draw after visiting a required number of stores at different locations.</span></div><div><span style="font-size: x-small">&nbsp\;</span></div><div><span style="font-size: x-small">To enable the necessary planning\, merchants/organizations&nbsp\;interested in participating or who have questions should contact Emily Lo at </span><a href="mailto:emilylo@mplususa.com"><span style="font-size: x-small">emilylo@mplususa.com</span></a><span style="font-size: x-small"> or 868.9982 no later than September 22.</span></div><div>&nbsp\;</div><div><span style="font-size: x-small">Merchants can reuse previous lanterns\, or they can purchase a new one for $20 (while supply lasts).</span></div></div>
LOCATION:Saratoga Village - Big Basin Way\, Saratoga\, CA
UID:e.517.192
SEQUENCE:3
DTSTAMP:20260424T125949Z
URL:https://members.saratogachamber.org/events/details/lantern-walk-10-03-2009-192
END:VEVENT

END:VCALENDAR
