BEGIN:VCALENDAR
VERSION:2.0
PRODID:-//ChamberMaster//Event Calendar 2.0//EN
METHOD:PUBLISH
X-PUBLISHED-TTL:P3D
REFRESH-INTERVAL:P3D
CALSCALE:GREGORIAN
BEGIN:VEVENT
DTSTART:20110930T010000Z
DTEND:20110930T030000Z
X-MICROSOFT-CDO-ALLDAYEVENT:FALSE
SUMMARY:Ladies' Night: An Educational Pampering Experience
DESCRIPTION:Ladies\, when's the last time you took an evening to just focus on your personal wellness? To mingle with like-minded people\, learn keys to de-stressing\, or treat yourself to a full-on pampering environment?\n\n	 \n\n	Well\, this is your opportunity! Peninsula Symphony\, VIP Health and Wellness\, and Harmony Healing Naturopathic Clinic are partnering together to bring you "Ladies' Night: An Educational Pampering Experience"! At this FREE event\, you will be able to chat with new friends over a glass of wine\, pick up strategies for taking care of your health\, enjoy a massage to the accompaniment of live music\, check out a variety of local community businesses\, and much much more!\n\n	 \n\n	For more information and to register online\, please check out http://ladieswellness.eventbrite.com/
X-ALT-DESC;FMTTYPE=text/html:<div>\n	Ladies\, when&#39\;s the last time you took an evening to just focus on your personal wellness? To mingle with like-minded people\, learn keys to de-stressing\, or treat yourself to a full-on pampering environment?<br />\n	&nbsp\;</div>\n<div>\n	Well\, this is your opportunity! Peninsula Symphony\, VIP Health and Wellness\, and Harmony Healing Naturopathic Clinic are partnering together to bring you &quot\;Ladies&#39\; Night: An Educational Pampering Experience&quot\;! At this FREE event\, you will be able to chat with new friends over a glass of wine\, pick up strategies for taking care of your health\, enjoy a massage to the accompaniment of live music\, check out a variety of local community businesses\, and much much more!<br />\n	&nbsp\;</div>\n<div>\n	For more information and to register online\, please check out http://ladieswellness.eventbrite.com/</div>\n
LOCATION:Lexus of Stevens Creek
UID:e.517.1252
SEQUENCE:3
DTSTAMP:20260421T080655Z
URL:https://members.saratogachamber.org/events/details/ladies-night-an-educational-pampering-experience-09-29-2011-1252
END:VEVENT

END:VCALENDAR
