BEGIN:VCALENDAR
VERSION:2.0
PRODID:-//ChamberMaster//Event Calendar 2.0//EN
METHOD:PUBLISH
X-PUBLISHED-TTL:P3D
REFRESH-INTERVAL:P3D
CALSCALE:GREGORIAN
BEGIN:VEVENT
DTSTART:20101030T210000Z
DTEND:20101031T000000Z
X-MICROSOFT-CDO-ALLDAYEVENT:FALSE
SUMMARY:Kids' Zone at Witchy Walk-A-Bout
DESCRIPTION:Saratoga Parent Nursery School presents the Kids? Zone at the Witchy Walk-A-Bout on Saturday\, October 30\, 2010 from 2:00 p.m. to 5:00 p.m. in Saratoga Village at 14440 Big Basin Way\, Saratoga\, CA 95070. The Kids? Zone will feature a pony cart ride and petting zoo\, crafts and games\, a costume parade\, live DJ music\, and much more.  For more information and to purchase advance discounted tickets for carnival\, please visit www.saratogaparentnurseryschool.org. Witchy-Walk-A-Bout is a fun\, safe\, and free trick-or-treating event for children brought to you by the Saratoga Village Development Council(SVDC) and the Saratoga Village merchants. The Kids? Zone is sponsored by Bill Gorman Real Estate (www.billgorman.com).
X-ALT-DESC;FMTTYPE=text/html:Saratoga Parent Nursery School presents the Kids? Zone at the Witchy Walk-A-Bout on Saturday\, October 30\, 2010 from 2:00 p.m. to 5:00 p.m. in Saratoga Village at 14440 Big Basin Way\, Saratoga\, CA 95070. The Kids? Zone will feature a pony cart ride and petting zoo\, crafts and games\, a costume parade\, live DJ music\, and much more.  For more information and to purchase advance discounted tickets for carnival\, please visit www.saratogaparentnurseryschool.org. Witchy-Walk-A-Bout is a fun\, safe\, and free trick-or-treating event for children brought to you by the Saratoga Village Development Council(SVDC) and the Saratoga Village merchants. The Kids? Zone is sponsored by Bill Gorman Real Estate (www.billgorman.com).
LOCATION:Saratoga Village Center Parking Lot located at 14440 Big Basin Way\, Saratoga\, CA 95070.
UID:e.517.286
SEQUENCE:3
DTSTAMP:20260423T205806Z
URL:https://members.saratogachamber.org/events/details/kids-zone-at-witchy-walk-a-bout-10-30-2010-286
END:VEVENT

END:VCALENDAR
