BEGIN:VCALENDAR
VERSION:2.0
PRODID:-//ChamberMaster//Event Calendar 2.0//EN
METHOD:PUBLISH
X-PUBLISHED-TTL:P3D
REFRESH-INTERVAL:P3D
CALSCALE:GREGORIAN
BEGIN:VEVENT
DTSTART:20110603T003000Z
DTEND:20110603T020000Z
X-MICROSOFT-CDO-ALLDAYEVENT:FALSE
SUMMARY:JUNE MIXER / West Valley College
DESCRIPTION:June Mixer\n\nNetworking & Raffle
X-ALT-DESC;FMTTYPE=text/html:June Mixer<br />\nNetworking &amp\; Raffle
LOCATION:West Valley College 14000 Fruitvale Ave.\, Saratoga\, CA In the Fox Building
UID:e.517.351
SEQUENCE:3
DTSTAMP:20260423T104949Z
URL:https://members.saratogachamber.org/events/details/june-mixer-west-valley-college-06-02-2011-351
END:VEVENT

END:VCALENDAR
