BEGIN:VCALENDAR
VERSION:2.0
PRODID:-//ChamberMaster//Event Calendar 2.0//EN
METHOD:PUBLISH
X-PUBLISHED-TTL:P3D
REFRESH-INTERVAL:P3D
CALSCALE:GREGORIAN
BEGIN:VEVENT
DTSTART:20100722T003000Z
DTEND:20100722T020000Z
X-MICROSOFT-CDO-ALLDAYEVENT:FALSE
SUMMARY:July Mixer / HSBC Bank - July 21
DESCRIPTION:Monthly Mixer - Promote your Business or connect with Chamber Members and others.
X-ALT-DESC;FMTTYPE=text/html:<div><div>Monthly Mixer - Promote your Business&nbsp\;or connect with Chamber Members and others.</div></div>
LOCATION:HSBC Bank1420 El Paseo de SaratogaSan Jose\, CA (In El Paseo de Saratoga shopping center / next door to Wolf Camera at entrance off Saratoga Ave.)
UID:e.517.265
SEQUENCE:3
DTSTAMP:20260424T004239Z
URL:https://members.saratogachamber.org/events/details/july-mixer-hsbc-bank-july-21-07-21-2010-265
END:VEVENT

END:VCALENDAR
