BEGIN:VCALENDAR
VERSION:2.0
PRODID:-//ChamberMaster//Event Calendar 2.0//EN
METHOD:PUBLISH
X-PUBLISHED-TTL:P3D
REFRESH-INTERVAL:P3D
CALSCALE:GREGORIAN
BEGIN:VEVENT
DTSTART:20100624T010000Z
DTEND:20100624T040000Z
X-MICROSOFT-CDO-ALLDAYEVENT:FALSE
SUMMARY:Joint Mixer - SpeedNetworking 2.0
DESCRIPTION:SpeedNetworking 2.0Joint Mixer w/ Los Gatos\, Campbell & Saratoga Chambers
X-ALT-DESC;FMTTYPE=text/html:<div>SpeedNetworking 2.0</div><div>Joint Mixer w/ Los Gatos\, Campbell &amp\; Saratoga Chambers</div><div>&nbsp\;</div>
LOCATION:Tollhouse Hotel140 S. Santa Cruz Ave.Los Gatos\, CA
UID:e.517.234
SEQUENCE:3
DTSTAMP:20260424T020424Z
URL:https://members.saratogachamber.org/events/details/joint-mixer-speednetworking-2-0-06-23-2010-234
END:VEVENT

END:VCALENDAR
