BEGIN:VCALENDAR
VERSION:2.0
PRODID:-//ChamberMaster//Event Calendar 2.0//EN
METHOD:PUBLISH
X-PUBLISHED-TTL:P3D
REFRESH-INTERVAL:P3D
CALSCALE:GREGORIAN
BEGIN:VEVENT
DTSTART:20110121T013000Z
DTEND:20110121T030000Z
X-MICROSOFT-CDO-ALLDAYEVENT:FALSE
SUMMARY:January Mixer / Our Lady of Fatima Villa
DESCRIPTION:Our Lady of Fatima Villa Mixer
X-ALT-DESC;FMTTYPE=text/html:Our Lady of Fatima Villa Mixer
LOCATION:20400 Saratoga-Los Gatos Rd. Saratoga\, CA
UID:e.517.312
SEQUENCE:3
DTSTAMP:20260423T170837Z
URL:https://members.saratogachamber.org/events/details/january-mixer-our-lady-of-fatima-villa-01-20-2011-312
END:VEVENT

END:VCALENDAR
