BEGIN:VCALENDAR
VERSION:2.0
PRODID:-//ChamberMaster//Event Calendar 2.0//EN
METHOD:PUBLISH
X-PUBLISHED-TTL:P3D
REFRESH-INTERVAL:P3D
CALSCALE:GREGORIAN
BEGIN:VEVENT
DTSTART:20110521T010000Z
DTEND:20110521T033000Z
X-MICROSOFT-CDO-ALLDAYEVENT:FALSE
SUMMARY:ITALIAN DINNER & CONCERT with MANUEL ROMERO
DESCRIPTION:For One Night Everyone's Italian!\n\n\n\nCome enjoy food\, wine\, raffles and music with us! \n\n\n\nWe are fortunate to be able to welcome back popular guitarist/songwriter and singer\, Manuel Romero!  He will perform a wide repertoire of lively popular songs\, plus Italian\, American\, Spanish and traditional ballads.  Must buy tickets in advance.  Please contact our office at 408-868-1257 for information and tickets!
X-ALT-DESC;FMTTYPE=text/html:For One Night Everyone&#39\;s Italian!<br />\n<br />\nCome enjoy food\, wine\, raffles and music with us!&nbsp\;<br />\n<br />\nWe are fortunate to be able to welcome back popular guitarist/songwriter and singer\, Manuel Romero!&nbsp\; He will perform a wide repertoire of lively popular songs\, plus Italian\, American\, Spanish and traditional ballads.&nbsp\; Must buy tickets in advance.&nbsp\; Please contact our office at 408-868-1257 for information and tickets!
LOCATION:Saratoga Senior Center 19655 Allendale Avenue\, Saratoga\, CA 95070
UID:e.517.359
SEQUENCE:3
DTSTAMP:20260423T115932Z
URL:https://members.saratogachamber.org/events/details/italian-dinner-concert-with-manuel-romero-05-20-2011-359
END:VEVENT

END:VCALENDAR
