BEGIN:VCALENDAR
VERSION:2.0
PRODID:-//ChamberMaster//Event Calendar 2.0//EN
METHOD:PUBLISH
X-PUBLISHED-TTL:P3D
REFRESH-INTERVAL:P3D
CALSCALE:GREGORIAN
BEGIN:VEVENT
DTSTART:20090627T010000Z
DTEND:20090627T040000Z
X-MICROSOFT-CDO-ALLDAYEVENT:FALSE
SUMMARY:Installation Dinner / Saratoga Citizen and Business of the Year Banquet
DESCRIPTION:Installation of Chamber Board. Annual Banquet to honor Saratoga most valued members both in public service and eximplary business. Other groupsin the Saratoga area cna take the opportunity to honor their special volunteers as well at this gathering of the Saratoga community.
X-ALT-DESC;FMTTYPE=text/html:<div>Installation of Chamber Board.</div><div>&nbsp\;</div><div>Annual Banquet to honor Saratoga most valued members both in public service and eximplary business.</div><div>&nbsp\;</div><div>Other groupsin the Saratoga area cna take the opportunity to honor their special volunteers as well at this gathering of the Saratoga community.</div>
LOCATION:Saratoga Community Center19655 Allendale Ave.Saratoga\, CA
UID:e.517.170
SEQUENCE:3
DTSTAMP:20260424T182400Z
URL:https://members.saratogachamber.org/events/details/installation-dinner-saratoga-citizen-and-business-of-the-year-banquet-06-26-2009-170
END:VEVENT

END:VCALENDAR
