BEGIN:VCALENDAR
VERSION:2.0
PRODID:-//ChamberMaster//Event Calendar 2.0//EN
METHOD:PUBLISH
X-PUBLISHED-TTL:P3D
REFRESH-INTERVAL:P3D
CALSCALE:GREGORIAN
BEGIN:VEVENT
DTSTART:20110511T013000Z
DTEND:20110511T040000Z
X-MICROSOFT-CDO-ALLDAYEVENT:FALSE
SUMMARY:Identity Theft: What You Need to Know
DESCRIPTION:Free educational evening designed to help participants learn: How identity theft can occur\, tips to help protect yourself\, and steps to take if identity theft happens to you. Guest Speaker is FBI Agent Albert Fontana. Free Childcare is available. Refreshments and a complimentary deli buffet will be available during registration. Sign up today for this free event! Event is presented by the Central Santa Clara Chapter of Thrivent Financial for Lutherans.
X-ALT-DESC;FMTTYPE=text/html:Free educational evening designed to help participants learn: How identity theft can occur\, tips to help protect yourself\, and steps to take if identity theft happens to you. Guest Speaker is FBI Agent Albert Fontana. Free Childcare is available. Refreshments and a complimentary deli buffet will be available during registration. Sign up today for this free event! Event is presented by the Central Santa Clara Chapter of Thrivent Financial for Lutherans.
LOCATION:Immanuel Lutheran Church\, Fellowship Hall 14103 Saratoga Avenue\, Saratoga
UID:e.517.349
SEQUENCE:3
DTSTAMP:20260423T115325Z
URL:https://members.saratogachamber.org/events/details/identity-theft-what-you-need-to-know-05-10-2011-349
END:VEVENT

END:VCALENDAR
