BEGIN:VCALENDAR
VERSION:2.0
PRODID:-//ChamberMaster//Event Calendar 2.0//EN
METHOD:PUBLISH
X-PUBLISHED-TTL:P3D
REFRESH-INTERVAL:P3D
CALSCALE:GREGORIAN
BEGIN:VEVENT
DTSTART:20100128T020000Z
DTEND:20100128T033000Z
X-MICROSOFT-CDO-ALLDAYEVENT:FALSE
SUMMARY:HSBC Bank - Grand Opening
DESCRIPTION:The Grand Opening of new San Jose / Saratoga Branch. Cocktails and Hors d' oeuvres
X-ALT-DESC;FMTTYPE=text/html:<div>The Grand Opening of new San Jose / Saratoga Branch.</div><div>&nbsp\;</div><div>Cocktails and Hors d' oeuvres</div>
LOCATION:1420 El Paseo de SaratogaSan Jose\, CA
UID:e.517.210
SEQUENCE:3
DTSTAMP:20260424T083954Z
URL:https://members.saratogachamber.org/events/details/hsbc-bank-grand-opening-01-27-2010-210
END:VEVENT

END:VCALENDAR
