BEGIN:VCALENDAR
VERSION:2.0
PRODID:-//ChamberMaster//Event Calendar 2.0//EN
METHOD:PUBLISH
X-PUBLISHED-TTL:P3D
REFRESH-INTERVAL:P3D
CALSCALE:GREGORIAN
BEGIN:VEVENT
DTSTART:20100414T020000Z
DTEND:20100414T030000Z
X-MICROSOFT-CDO-ALLDAYEVENT:FALSE
SUMMARY:How to Prep for a Disaster and When to Go to the E.R. for a Personal One
DESCRIPTION:Join us for an interactive lecture with Q & A session to learn how to make informed decisions about disaster preparedness and emergency room visits.  Dr. Jessica Ngo\, one of our E.R. physicians\, recently returned from Haiti and will provide valuable information about how to prepare for a natural disaster and what to do after one occurs.  You?ll also learn about the signs and symptoms of serious conditions like stroke and heart attack that warrant a trip to the emergency room.\n\n\n\nTopics:\n\nWhen is it time to go to the emergency room?\n\nWhat constitutes an emergency?\n\nHow do I protect my family in a major earthquake?\n\n\n\nSpeaker:\n\nJessica Ngo\, MD
X-ALT-DESC;FMTTYPE=text/html:Join us for an interactive lecture with Q & A session to learn how to make informed decisions about disaster preparedness and emergency room visits.  Dr. Jessica Ngo\, one of our E.R. physicians\, recently returned from Haiti and will provide valuable information about how to prepare for a natural disaster and what to do after one occurs.  You?ll also learn about the signs and symptoms of serious conditions like stroke and heart attack that warrant a trip to the emergency room.\n<br>\n<br>Topics:\n<br>When is it time to go to the emergency room?\n<br>What constitutes an emergency?\n<br>How do I protect my family in a major earthquake?\n<br>\n<br>Speaker:\n<br>Jessica Ngo\, MD
LOCATION:El Camino Hospital -- Los Gatos Conference Center 815 Pollard Road Los Gatos\, CA 95032
UID:e.517.249
SEQUENCE:3
DTSTAMP:20260424T043331Z
URL:https://members.saratogachamber.org/events/details/how-to-prep-for-a-disaster-and-when-to-go-to-the-e-r-for-a-personal-one-04-13-2010-249
END:VEVENT

END:VCALENDAR
