BEGIN:VCALENDAR
VERSION:2.0
PRODID:-//ChamberMaster//Event Calendar 2.0//EN
METHOD:PUBLISH
X-PUBLISHED-TTL:P3D
REFRESH-INTERVAL:P3D
CALSCALE:GREGORIAN
BEGIN:VEVENT
DTSTART:20101127T013000Z
DTEND:20101127T050000Z
X-MICROSOFT-CDO-ALLDAYEVENT:FALSE
SUMMARY:Holiday Open House in the Village
DESCRIPTION:Village Open House\n\n	To Celebrate the start of the Holiday Season\n\n	\n\n	Santa\n\n	Horse Drawn Carriage Rides\n\n	Music & Carolers\n\n	Extended Business Hours\n\n	Lots to do & see!
X-ALT-DESC;FMTTYPE=text/html:<div>\n	Village Open House</div>\n<div>\n	To Celebrate the start of the Holiday Season<br />\n	<br />\n	Santa<br />\n	Horse Drawn Carriage Rides<br />\n	Music &amp\; Carolers<br />\n	Extended Business Hours<br />\n	Lots to do &amp\; see!<br />\n	&nbsp\;</div>\n
LOCATION:Big Basin WaySaratoga\, CA
UID:e.517.248
SEQUENCE:3
DTSTAMP:20260423T194005Z
URL:https://members.saratogachamber.org/events/details/holiday-open-house-in-the-village-11-26-2010-248
END:VEVENT

END:VCALENDAR
