BEGIN:VCALENDAR
VERSION:2.0
PRODID:-//ChamberMaster//Event Calendar 2.0//EN
METHOD:PUBLISH
X-PUBLISHED-TTL:P3D
REFRESH-INTERVAL:P3D
CALSCALE:GREGORIAN
BEGIN:VEVENT
DTSTART;VALUE=DATE:20100315
DTEND;VALUE=DATE:20100316
TRANSP:TRANSPARENT
X-MICROSOFT-CDO-ALLDAYEVENT:TRUE
SUMMARY:History of Moffett Field
DESCRIPTION:For immediate release:  Once upon a time\, huge 785 foot long dirigibles quietly flew the sky over the Bay Area and called Mountain View\, home.\n\n\n\n   "The History of Moffett Field\," will be presented on Monday\, March 15 at 7:15 at the Immanuel Lutheran Church (14103 Saratoga Avenue in Saratoga).  The lecture is free and sponsored by the Saratoga Historical Foundation.  John Mascali will trace the 75-year history of Moffett Field beginning in 1930 to the present.\n\n\n\n    Mascali\, a director of Moffett  Field's Historical Society\, will recount stories of the construction of the historic Hanger One\, the dirigible USS Macon\, the squadrons and aircraft that have flown out of Moffett Field and some of the history of NASA Ames.\n\n\n\n    Hangar One\, built during the 1930's\, is one of the largest unsupported structures in the country. The floor covers 8 acres and can accommodate 10 football fields. The hangar's interior is so large that fog sometimes forms near the ceiling.\n\n\n\n    Hangar One was used to house the USS Macon\, a 785 foot dirigible. The Macon could accommodate 100 officers and men\; sleeping berths\; a mess room\; a galley\; and observation platform in the nose and tail.\n\n\n\n    The Navy used the dirigible for reconnaissance. The ship was useful because of its silent motion and speed (up to 80 mph) for long distance.\n\n\n\n    Join us and find out more about this fascinating historic landmark and time in history. Those participating in the potluck dinner should arrive at 6:30 PM and bring food to share\, your own dishes and eating utensils. Beverages of water\, tea or coffee will be provided. The lecture will begin about 7:15 PM
X-ALT-DESC;FMTTYPE=text/html:For immediate release:  Once upon a time\, huge 785 foot long dirigibles quietly flew the sky over the Bay Area and called Mountain View\, home.\n<br>\n<br>   "The History of Moffett Field\," will be presented on Monday\, March 15 at 7:15 at the Immanuel Lutheran Church (14103 Saratoga Avenue in Saratoga).  The lecture is free and sponsored by the Saratoga Historical Foundation.  John Mascali will trace the 75-year history of Moffett Field beginning in 1930 to the present.\n<br>\n<br>    Mascali\, a director of Moffett  Field's Historical Society\, will recount stories of the construction of the historic Hanger One\, the dirigible USS Macon\, the squadrons and aircraft that have flown out of Moffett Field and some of the history of NASA Ames.\n<br>\n<br>    Hangar One\, built during the 1930's\, is one of the largest unsupported structures in the country. The floor covers 8 acres and can accommodate 10 football fields. The hangar's interior is so large that fog sometimes forms near the ceiling.\n<br>\n<br>    Hangar One was used to house the USS Macon\, a 785 foot dirigible. The Macon could accommodate 100 officers and men\; sleeping berths\; a mess room\; a galley\; and observation platform in the nose and tail.\n<br>\n<br>    The Navy used the dirigible for reconnaissance. The ship was useful because of its silent motion and speed (up to 80 mph) for long distance.\n<br>\n<br>    Join us and find out more about this fascinating historic landmark and time in history. Those participating in the potluck dinner should arrive at 6:30 PM and bring food to share\, your own dishes and eating utensils. Beverages of water\, tea or coffee will be provided. The lecture will begin about 7:15 PM\n<br>
LOCATION:Immanuel Lutheran Church at 14103 Saratoga Avenue in Saratoga.
UID:e.517.216
SEQUENCE:3
DTSTAMP:20260424T055552Z
URL:https://members.saratogachamber.org/events/details/history-of-moffett-field-03-15-2010-216
END:VEVENT

END:VCALENDAR
