BEGIN:VCALENDAR
VERSION:2.0
PRODID:-//ChamberMaster//Event Calendar 2.0//EN
METHOD:PUBLISH
X-PUBLISHED-TTL:P3D
REFRESH-INTERVAL:P3D
CALSCALE:GREGORIAN
BEGIN:VEVENT
DTSTART;VALUE=DATE:20091002
DTEND;VALUE=DATE:20100104
TRANSP:TRANSPARENT
X-MICROSOFT-CDO-ALLDAYEVENT:TRUE
SUMMARY:Ghosts\, Champagne\, and Volleyballs\, a special exhibit on Saratoga people& places
DESCRIPTION:For immediate release:   ?Ghosts\, Champagne and Volleyballs?a Look at Saratoga?\, a new exhibit will open at the Saratoga History Museum on October 2 and run through the end of December.  The Saratoga History Museum is participating in a nationwide designation of ?October is History month?.Historic and contemporary people\, places\, and things will be highlighted in this special exhibit. Stop by and find out how ghosts\, champagne\, and volleyballs fit into Saratoga?s history. The Saratoga History Museum and historic McWilliams house is open from 1 to 4PM Friday\, Saturday and Sunday.  The ?War Between the States? exhibit is being held over until the end of October due to popular demand. \n                                                                 ###\n\n\nThe Saratoga Historical Foundation is a non-profit organization and operates the Saratoga History Museum and historic McWilliams house. Located at 20450 Saratoga-Los Gatos Road\, the Saratoga History Museum contains one of the largest collections of history and memorabilia on the town and people of Saratoga. The museum is open Friday through Sunday from 1 to 4 PM. Docent tours are available as well as for the nearby historic McWilliams house\, a restored 1860's home. A walking tour of some of the town's historic buildings and landmarks is also available. You can write for more information to PO Box 172 Saratoga\, CA 95071 or go up to the website at http://www.saratogahistory.com. \nAnnette Stransky 408-867-7468 or annette@saratogahistory.com\nSeptember 14\, 2009
X-ALT-DESC;FMTTYPE=text/html:For immediate release:   ?Ghosts\, Champagne and Volleyballs?a Look at Saratoga?\, a new exhibit will open at the Saratoga History Museum on October 2 and run through the end of December.  The Saratoga History Museum is participating in a nationwide designation of ?October is History month?.Historic and contemporary people\, places\, and things will be highlighted in this special exhibit. Stop by and find out how ghosts\, champagne\, and volleyballs fit into Saratoga?s history. The Saratoga History Museum and historic McWilliams house is open from 1 to 4PM Friday\, Saturday and Sunday.  The ?War Between the States? exhibit is being held over until the end of October due to popular demand. \n                                                                 ###\n\n\nThe Saratoga Historical Foundation is a non-profit organization and operates the Saratoga History Museum and historic McWilliams house. Located at 20450 Saratoga-Los Gatos Road\, the Saratoga History Museum contains one of the largest collections of history and memorabilia on the town and people of Saratoga. The museum is open Friday through Sunday from 1 to 4 PM. Docent tours are available as well as for the nearby historic McWilliams house\, a restored 1860's home. A walking tour of some of the town's historic buildings and landmarks is also available. You can write for more information to PO Box 172 Saratoga\, CA 95071 or go up to the website at http://www.saratogahistory.com. \nAnnette Stransky 408-867-7468 or annette@saratogahistory.com\nSeptember 14\, 2009\n
LOCATION:Saratoga History Museum 20450 Saratoga-Los Gatos Road Saratoga
UID:e.517.202
SEQUENCE:3
DTSTAMP:20260424T085423Z
URL:https://members.saratogachamber.org/events/details/ghosts-champagne-and-volleyballs-a-special-exhibit-on-saratoga-people-places-10-02-2009-202
END:VEVENT

END:VCALENDAR
