BEGIN:VCALENDAR
VERSION:2.0
PRODID:-//ChamberMaster//Event Calendar 2.0//EN
METHOD:PUBLISH
X-PUBLISHED-TTL:P3D
REFRESH-INTERVAL:P3D
CALSCALE:GREGORIAN
BEGIN:VEVENT
DTSTART:20090905T020000Z
DTEND:20090905T050000Z
X-MICROSOFT-CDO-ALLDAYEVENT:FALSE
SUMMARY:Free Shakespeare in Sanborn Park
DESCRIPTION:Richard III is the ultimate tale of the pursuit of absolute power and how that power corrupts. Such a tale is timeless\, but Richard is also a distinctly British tale and its historic significance (the end of the Plantagenet reign and the ascention of the House of Tudor) cannot be underplayed. We will be setting our story in its correct historical period giving our audience a glimpse of the England of Richards time. Also we will be giving our audience Richard himself. While historians debate how he is portrayed there is no doubt that Shakespeare has given us one of the most unforgettable stage villains of all time...And everyone loves a good Villain!
X-ALT-DESC;FMTTYPE=text/html:<div><p><em>Richard III</em> is the ultimate tale of the pursuit of absolute power and how that power corrupts. Such a tale is timeless\, but Richard is also a distinctly British tale and its historic significance (the end of the Plantagenet reign and the ascention of the House of Tudor) cannot be underplayed. We will be setting our story in its correct historical period giving our audience a glimpse of the England of Richards time. Also we will be giving our audience Richard himself. While historians debate how he is portrayed there is no doubt that Shakespeare has given us one of the most unforgettable stage villains of all time...</p><p>And everyone loves a good Villain!</p></div>
LOCATION:Sanborn Skyline County Park16055 Sanborn Rd.Saratoga\, CA 95070
UID:e.517.187
SEQUENCE:3
DTSTAMP:20260424T142056Z
URL:https://members.saratogachamber.org/events/details/free-shakespeare-in-sanborn-park-09-04-2009-187
END:VEVENT

END:VCALENDAR
