BEGIN:VCALENDAR
VERSION:2.0
PRODID:-//ChamberMaster//Event Calendar 2.0//EN
METHOD:PUBLISH
X-PUBLISHED-TTL:P3D
REFRESH-INTERVAL:P3D
CALSCALE:GREGORIAN
BEGIN:VEVENT
DTSTART:20090808T020000Z
DTEND:20090810T050000Z
X-MICROSOFT-CDO-ALLDAYEVENT:FALSE
SUMMARY:Free Shakespeare in Sanborn Park
DESCRIPTION:AS YOU LIKE IT\, Directed by Angie Higgins\nSet against the romantic background of Regency England\, Shady Shakespeare takes you on a journey of this classic pastoral comedy through the eyes of a young Jane Austen.  All the world is indeed a stage as Jane opens a music box that manifests into a world of feuding brothers\, banished dukes\, and pinning lovers. Come watch as Jane follows one of Shakespeare's most notable heroines\, Rosalind\, wit and woe her way to a perfect Fairytale ending!\n\nRICHARD III\, Directed by Ross Arden Harkness\nRichard III is the ultimate tale of the pursuit of absolute power and how that power corrupts. Such a tale is timeless\, but Richard is also a distinctly British tale and its historic significance (the end of the Plantagenet reign and the ascention of the House of Tudor) cannot be underplayed. We will be setting our story in its correct historical period giving our audience a glimpse of the England of Richards time. Also we will be giving our audience Richard himself. While historians debate how he is portrayed there is no doubt that Shakespeare has given us one of the most unforgettable stage villains of all time...\nAnd everyone loves a good Villain!
X-ALT-DESC;FMTTYPE=text/html:AS YOU LIKE IT\, Directed by Angie Higgins\nSet against the romantic background of Regency England\, Shady Shakespeare takes you on a journey of this classic pastoral comedy through the eyes of a young Jane Austen.  All the world is indeed a stage as Jane opens a music box that manifests into a world of feuding brothers\, banished dukes\, and pinning lovers. Come watch as Jane follows one of Shakespeare's most notable heroines\, Rosalind\, wit and woe her way to a perfect Fairytale ending!\n\nRICHARD III\, Directed by Ross Arden Harkness\nRichard III is the ultimate tale of the pursuit of absolute power and how that power corrupts. Such a tale is timeless\, but Richard is also a distinctly British tale and its historic significance (the end of the Plantagenet reign and the ascention of the House of Tudor) cannot be underplayed. We will be setting our story in its correct historical period giving our audience a glimpse of the England of Richards time. Also we will be giving our audience Richard himself. While historians debate how he is portrayed there is no doubt that Shakespeare has given us one of the most unforgettable stage villains of all time...\nAnd everyone loves a good Villain!
LOCATION:Sanborn Skyline County Park 16055 Sanborn Rd Saratoga\, Ca 95070
UID:e.517.175
SEQUENCE:3
DTSTAMP:20260424T155907Z
URL:https://members.saratogachamber.org/events/details/free-shakespeare-in-sanborn-park-08-07-2009-175
END:VEVENT

END:VCALENDAR
