BEGIN:VCALENDAR
VERSION:2.0
PRODID:-//ChamberMaster//Event Calendar 2.0//EN
METHOD:PUBLISH
X-PUBLISHED-TTL:P3D
REFRESH-INTERVAL:P3D
CALSCALE:GREGORIAN
BEGIN:VEVENT
DTSTART:20100127T020000Z
DTEND:20100127T040000Z
X-MICROSOFT-CDO-ALLDAYEVENT:FALSE
SUMMARY:FREE Lecture: New Advancements in Minimally Invasive Robotic Surgery
DESCRIPTION:El Camino Hospital Los Gatos now has the latest da Vinci Si HD Surgical System which enables physicians to perform minimally invasive prostate cancer and gynecologic surgeries. The new system features enhanced three-dimensional\, high-definition vision with superior visual clarity of target tissue and anatomy. The system's instrumentation offers exceptional motor control and natural dexterity\, allowing the robotic arms to essentially become an extension of the surgeon's own hands--but with the benefit of full range of motion that's otherwise not possible. Please join us January 26th for a presentation and demo of the da Vinci Si HD Surgical System.\n\n\n\nPresenters include:\n\nRandy Creamier\, Laparoscopic & Robotic Program Coordinator\n\nSharam Gholami\, MD\, Urologist & Robotic Surgery Specialist\n\nKristine Borrison\, MD\, OBGYN & Robotic Surgery Specialist
X-ALT-DESC;FMTTYPE=text/html:El Camino Hospital Los Gatos now has the latest da Vinci Si HD Surgical System which enables physicians to perform minimally invasive prostate cancer and gynecologic surgeries. The new system features enhanced three-dimensional\, high-definition vision with superior visual clarity of target tissue and anatomy. The system's instrumentation offers exceptional motor control and natural dexterity\, allowing the robotic arms to essentially become an extension of the surgeon's own hands--but with the benefit of full range of motion that's otherwise not possible. Please join us January 26th for a presentation and demo of the da Vinci Si HD Surgical System.\n<br>\n<br>Presenters include:\n<br>Randy Creamier\, Laparoscopic & Robotic Program Coordinator\n<br>Sharam Gholami\, MD\, Urologist & Robotic Surgery Specialist\n<br>Kristine Borrison\, MD\, OBGYN & Robotic Surgery Specialist
LOCATION:El Camino Hospital Los Gatos Conference Center 815 Pollard Road\, Los Gatos\, CA 95032
UID:e.517.212
SEQUENCE:3
DTSTAMP:20260424T084710Z
URL:https://members.saratogachamber.org/events/details/free-lecture-new-advancements-in-minimally-invasive-robotic-surgery-01-26-2010-212
END:VEVENT

END:VCALENDAR
