BEGIN:VCALENDAR
VERSION:2.0
PRODID:-//ChamberMaster//Event Calendar 2.0//EN
METHOD:PUBLISH
X-PUBLISHED-TTL:P3D
REFRESH-INTERVAL:P3D
CALSCALE:GREGORIAN
BEGIN:VEVENT
DTSTART:20100113T030000Z
DTEND:20100113T040000Z
X-MICROSOFT-CDO-ALLDAYEVENT:FALSE
SUMMARY:Free Community Wellness Lecture: Options for Living with Coronary Artery Disease
DESCRIPTION:Free Community Wellness Lecture at El Camino Hospital Los Gatos. The speaker will be Durga Madala\, MD\, El Camino Hospital Cardiologist. \n\n\n\nPlease register for this class by calling 800-216-5556. If the class is canceled for any reason\, we will contact you.\n\n\n\nThis event is presented by the Health Library & Resource Center. Need health information? Contact us at (408) 866-4044 (Los Gatos) or at (650) 940-7210 (Mt. View) or go online to www.elcaminohospital.org/library.  Thank you.
X-ALT-DESC;FMTTYPE=text/html:Free Community Wellness Lecture at El Camino Hospital Los Gatos. The speaker will be Durga Madala\, MD\, El Camino Hospital Cardiologist. \n<br>\n<br>Please register for this class by calling 800-216-5556. If the class is canceled for any reason\, we will contact you.\n<br>\n<br>This event is presented by the Health Library & Resource Center. Need health information? Contact us at (408) 866-4044 (Los Gatos) or at (650) 940-7210 (Mt. View) or go online to www.elcaminohospital.org/library.  Thank you. \n<br>
LOCATION:El Camino Hospital Los Gatos Conference Center 815 Pollard Road\; Los Gatos\, CA 95032
UID:e.517.209
SEQUENCE:3
DTSTAMP:20260424T085004Z
URL:https://members.saratogachamber.org/events/details/free-community-wellness-lecture-options-for-living-with-coronary-artery-disease-01-12-2010-209
END:VEVENT

END:VCALENDAR
