BEGIN:VCALENDAR
VERSION:2.0
PRODID:-//ChamberMaster//Event Calendar 2.0//EN
METHOD:PUBLISH
X-PUBLISHED-TTL:P3D
REFRESH-INTERVAL:P3D
CALSCALE:GREGORIAN
BEGIN:VEVENT
DTSTART:20100704T210000Z
DTEND:20100704T223000Z
X-MICROSOFT-CDO-ALLDAYEVENT:FALSE
SUMMARY:Fourth of July Event
DESCRIPTION:For immediate release:  It?s an old fashioned\, star spangled Independence Day celebration held on July 4th from 2:00-3:30 PM.  The annual event will be held at the Kevin Moran Park at 12415 Scully Avenue in Saratoga.  The program will include US Navy and Girl Scout color guards\, patriotic tunes from the McCartysville Band\, patriotic songs from a youth chorus\, American historical characters\, speeches\,  a parade around the park for all\, free popsicles and flags for children. Everyone is invited to wear patriotic colors?veterans and soldiers\, wear your uniform. For more information\, go to http://www.saratogaJuly4.com or call Sarah 408-867-4577 or Ray at 408-867-4233.  Sponsored by the City of Saratoga\, Saratoga Rotary\, Saratoga Lions\, Saratoga Historical Foundation and Saratoga Federated Church.
X-ALT-DESC;FMTTYPE=text/html:For immediate release:  It?s an old fashioned\, star spangled Independence Day celebration held on July 4th from 2:00-3:30 PM.  The annual event will be held at the Kevin Moran Park at 12415 Scully Avenue in Saratoga.  The program will include US Navy and Girl Scout color guards\, patriotic tunes from the McCartysville Band\, patriotic songs from a youth chorus\, American historical characters\, speeches\,  a parade around the park for all\, free popsicles and flags for children. Everyone is invited to wear patriotic colors?veterans and soldiers\, wear your uniform. For more information\, go to http://www.saratogaJuly4.com or call Sarah 408-867-4577 or Ray at 408-867-4233.  Sponsored by the City of Saratoga\, Saratoga Rotary\, Saratoga Lions\, Saratoga Historical Foundation and Saratoga Federated Church.  
LOCATION:Kevin Moran Park at 12415 Scully Avenue in Saratoga\, CA
UID:e.517.256
SEQUENCE:3
DTSTAMP:20260424T020530Z
URL:https://members.saratogachamber.org/events/details/fourth-of-july-event-07-04-2010-256
END:VEVENT

END:VCALENDAR
