BEGIN:VCALENDAR
VERSION:2.0
PRODID:-//ChamberMaster//Event Calendar 2.0//EN
METHOD:PUBLISH
X-PUBLISHED-TTL:P3D
REFRESH-INTERVAL:P3D
CALSCALE:GREGORIAN
BEGIN:VEVENT
DTSTART:20110204T011500Z
DTEND:20110204T030000Z
X-MICROSOFT-CDO-ALLDAYEVENT:FALSE
SUMMARY:February Mixer & Ribbon Cutting / The Obsession Box
DESCRIPTION:Ribbon Cutting 5:15pm\n\n	Mixer 5:30-7pm
X-ALT-DESC;FMTTYPE=text/html:<p>\n	Ribbon Cutting 5:15pm<br />\n	Mixer 5:30-7pm</p>\n
LOCATION:14520 Big Basin Way Saratoga\, CA
UID:e.517.316
SEQUENCE:3
DTSTAMP:20260423T154600Z
URL:https://members.saratogachamber.org/events/details/february-mixer-ribbon-cutting-the-obsession-box-02-03-2011-316
END:VEVENT

END:VCALENDAR
