BEGIN:VCALENDAR
VERSION:2.0
PRODID:-//ChamberMaster//Event Calendar 2.0//EN
METHOD:PUBLISH
X-PUBLISHED-TTL:P3D
REFRESH-INTERVAL:P3D
CALSCALE:GREGORIAN
BEGIN:VEVENT
DTSTART:20301001T230000Z
DTEND:20301002T000000Z
X-MICROSOFT-CDO-ALLDAYEVENT:FALSE
SUMMARY:Executive Committee Meeting
DESCRIPTION:
X-ALT-DESC;FMTTYPE=text/html:
LOCATION:
UID:e.517.9936
SEQUENCE:3
DTSTAMP:20260424T210940Z
URL:https://members.saratogachamber.org/events/details/executive-committee-meeting-10-01-2030-9936
END:VEVENT

END:VCALENDAR
