BEGIN:VCALENDAR
VERSION:2.0
PRODID:-//ChamberMaster//Event Calendar 2.0//EN
METHOD:PUBLISH
X-PUBLISHED-TTL:P3D
REFRESH-INTERVAL:P3D
CALSCALE:GREGORIAN
BEGIN:VEVENT
DTSTART:20110827T000000Z
DTEND:20110827T020000Z
X-MICROSOFT-CDO-ALLDAYEVENT:FALSE
SUMMARY:Event at The Ones
DESCRIPTION:Hello Friends\,\n\n\n\nTHE ONES are back at Savannah Chanelle this Friday August 26th from 5:00 - 7:30. When we played there last month and thanks to all of you we had a record breaking audience. We would Love to break our own record! Savannah Chanelle is 3 miles above downtown Saratoga in an incredible setting. They have great wine so bring a picnic basket and the kids as this is a family friendly show.\n\n\n\nAlso\n\n\n\nMy First Choice Limousine is now the Official Limo Company of THE ONES!\n\n\n\nThis Friday beginning at 3:30 there will be Limo service from The Bank to Savannah Chanelle for a $10.00 round trip.\n\n\n\nStop by The Bank for a pre-show cocktail and then ride in style to Savannah Chanelle.\n\n\n\nWe love playing for you!\n\n\n\nHope to see YOU on Friday  .\n\n\n\nContinued Thanks and Gratitude to all of you who support THE ONES!
X-ALT-DESC;FMTTYPE=text/html:Hello Friends\,<br />\n<br />\nTHE ONES are back at Savannah Chanelle this Friday August 26th from 5:00 - 7:30. When we played there last month and thanks to all of you we had a record breaking audience. We would Love to break our own record! Savannah Chanelle is 3 miles above downtown Saratoga in an incredible setting. They have great wine so bring a picnic basket and the kids as this is a family friendly show.<br />\n<br />\nAlso<br />\n<br />\nMy First Choice Limousine is now the Official Limo Company of THE ONES!<br />\n<br />\nThis Friday beginning at 3:30 there will be Limo service from The Bank to Savannah Chanelle for a $10.00 round trip.<br />\n<br />\nStop by The Bank for a pre-show cocktail and then ride in style to Savannah Chanelle.<br />\n<br />\nWe love playing for you!<br />\n<br />\nHope to see YOU on Friday&hellip\;&hellip\;.<br />\n<br />\nContinued Thanks and Gratitude to all of you who support THE ONES!<br />\n<br />\n
LOCATION:23600 Big Basin Way\, Saratoga
UID:e.517.1256
SEQUENCE:3
DTSTAMP:20260423T080916Z
URL:https://members.saratogachamber.org/events/details/event-at-the-ones-08-26-2011-1256
END:VEVENT

END:VCALENDAR
