BEGIN:VCALENDAR
VERSION:2.0
PRODID:-//ChamberMaster//Event Calendar 2.0//EN
METHOD:PUBLISH
X-PUBLISHED-TTL:P3D
REFRESH-INTERVAL:P3D
CALSCALE:GREGORIAN
BEGIN:VEVENT
DTSTART:20110821T040000Z
DTEND:20110821T080000Z
X-MICROSOFT-CDO-ALLDAYEVENT:FALSE
SUMMARY:Event at The Ones
DESCRIPTION:The Ones are playing at The Bank on Sat. 8-20\, from 9:00 to 1:00 am. No cover\, great music and loads of fun and dancing. Come on out!
X-ALT-DESC;FMTTYPE=text/html:The Ones are playing at The Bank on Sat. 8-20\, from 9:00 to 1:00 am. No cover\, great music and loads of fun and dancing. Come on out!
LOCATION:14421 Big Basin Way\, Saratoga
UID:e.517.1253
SEQUENCE:3
DTSTAMP:20260423T080917Z
URL:https://members.saratogachamber.org/events/details/event-at-the-ones-08-20-2011-1253
END:VEVENT

END:VCALENDAR
