BEGIN:VCALENDAR
VERSION:2.0
PRODID:-//ChamberMaster//Event Calendar 2.0//EN
METHOD:PUBLISH
X-PUBLISHED-TTL:P3D
REFRESH-INTERVAL:P3D
CALSCALE:GREGORIAN
BEGIN:VEVENT
DTSTART:20101106T160000Z
DTEND:20101106T190000Z
X-MICROSOFT-CDO-ALLDAYEVENT:FALSE
SUMMARY:Event at Saratoga Senior Center
DESCRIPTION:SASCC"s Annual Health fair Event! We will have a limited number of Flu shots and different Health Screenings for you to partake in. Flu shots are $10 each.  We will also be having a Thermometer Exchange.  bring in your old Mercury Thermometer and get a NEW digital.  You can also recycle your old glasses\, cell phones and batteries.
X-ALT-DESC;FMTTYPE=text/html:SASCC&quot\;s Annual Health fair Event! We will have a limited number of Flu shots and different Health Screenings for you to partake in. Flu shots are $10 each.&nbsp\;&nbsp\;We will also be&nbsp\;having a Thermometer Exchange.&nbsp\; bring in your old Mercury Thermometer and get a&nbsp\;NEW digital.&nbsp\;&nbsp\;You can also recycle your old glasses\, cell phones and batteries.
LOCATION:Joan Pisani Community Center: 19655 Allendale Ave.\, Saratoga\, CA 95070
UID:e.517.308
SEQUENCE:3
DTSTAMP:20260423T193341Z
URL:https://members.saratogachamber.org/events/details/event-at-saratoga-senior-center-11-06-2010-308
END:VEVENT

END:VCALENDAR
